BEGIN:VCALENDAR
VERSION:2.0
PRODID:-//Vakuum e.V. - ECPv6.15.20//NONSGML v1.0//EN
CALSCALE:GREGORIAN
METHOD:PUBLISH
X-ORIGINAL-URL:https://vakuum-ev.de
X-WR-CALDESC:Veranstaltungen für Vakuum e.V.
REFRESH-INTERVAL;VALUE=DURATION:PT1H
X-Robots-Tag:noindex
X-PUBLISHED-TTL:PT1H
BEGIN:VTIMEZONE
TZID:Europe/Berlin
BEGIN:DAYLIGHT
TZOFFSETFROM:+0100
TZOFFSETTO:+0200
TZNAME:CEST
DTSTART:20250330T010000
END:DAYLIGHT
BEGIN:STANDARD
TZOFFSETFROM:+0200
TZOFFSETTO:+0100
TZNAME:CET
DTSTART:20251026T010000
END:STANDARD
BEGIN:DAYLIGHT
TZOFFSETFROM:+0100
TZOFFSETTO:+0200
TZNAME:CEST
DTSTART:20260329T010000
END:DAYLIGHT
BEGIN:STANDARD
TZOFFSETFROM:+0200
TZOFFSETTO:+0100
TZNAME:CET
DTSTART:20261025T010000
END:STANDARD
BEGIN:DAYLIGHT
TZOFFSETFROM:+0100
TZOFFSETTO:+0200
TZNAME:CEST
DTSTART:20270328T010000
END:DAYLIGHT
BEGIN:STANDARD
TZOFFSETFROM:+0200
TZOFFSETTO:+0100
TZNAME:CET
DTSTART:20271031T010000
END:STANDARD
END:VTIMEZONE
BEGIN:VEVENT
DTSTART;TZID=Europe/Berlin:20260424T200000
DTEND;TZID=Europe/Berlin:20260424T230000
DTSTAMP:20260422T203254
CREATED:20260119T204721Z
LAST-MODIFIED:20260119T205525Z
UID:1122-1777060800-1777071600@vakuum-ev.de
SUMMARY:SANAZ ZARESANI DUO
DESCRIPTION:
URL:https://vakuum-ev.de/event/sanaz-zaresani-duo/
LOCATION:VaKuuM e.V.\, Am Bahnhof 2\, Bad Bevensen\, Niedersachsen\, 29529\, Germany
ATTACH;FMTTYPE=image/jpeg:https://vakuum-ev.de/wp-content/uploads/2026/01/Sanaz-Zaresani-Duo-2026.jpg
ORGANIZER;CN="VaKuuM e.V.":MAILTO:kontakt@vakuum-ev.de
END:VEVENT
BEGIN:VEVENT
DTSTART;TZID=Europe/Berlin:20260425T200000
DTEND;TZID=Europe/Berlin:20260425T230000
DTSTAMP:20260422T203254
CREATED:20260219T150530Z
LAST-MODIFIED:20260219T150530Z
UID:1210-1777147200-1777158000@vakuum-ev.de
SUMMARY:WORLDMACHINE
DESCRIPTION:
URL:https://vakuum-ev.de/event/worldmachine-2/
LOCATION:VaKuuM e.V.\, Am Bahnhof 2\, Bad Bevensen\, Niedersachsen\, 29529\, Germany
ATTACH;FMTTYPE=image/jpeg:https://vakuum-ev.de/wp-content/uploads/2026/02/WORLDMACHINE-2026.jpg
ORGANIZER;CN="VaKuuM e.V.":MAILTO:kontakt@vakuum-ev.de
END:VEVENT
BEGIN:VEVENT
DTSTART;TZID=Europe/Berlin:20260426T200000
DTEND;TZID=Europe/Berlin:20260426T230000
DTSTAMP:20260422T203254
CREATED:20251016T201240Z
LAST-MODIFIED:20260207T173235Z
UID:829-1777233600-1777244400@vakuum-ev.de
SUMMARY:ELISABETH LOHNINGER BAND
DESCRIPTION:
URL:https://vakuum-ev.de/event/elisabeth-lohninger-band/
LOCATION:Niedersachsen
ATTACH;FMTTYPE=image/jpeg:https://vakuum-ev.de/wp-content/uploads/2025/10/Elisabeth-Lohninger-2026.jpg
END:VEVENT
BEGIN:VEVENT
DTSTART;TZID=Europe/Berlin:20260429T183000
DTEND;TZID=Europe/Berlin:20260429T200000
DTSTAMP:20260422T203254
CREATED:20260210T094737Z
LAST-MODIFIED:20260210T094737Z
UID:1190-1777487400-1777492800@vakuum-ev.de
SUMMARY:Percussion – Workshop mit Allan
DESCRIPTION:
URL:https://vakuum-ev.de/event/percussion-workshop-mit-allan-11/
LOCATION:VaKuuM e.V.\, Am Bahnhof 2\, Bad Bevensen\, Niedersachsen\, 29529\, Germany
ATTACH;FMTTYPE=image/jpeg:https://vakuum-ev.de/wp-content/uploads/2026/02/Percussion-Workshop-02.jpg
ORGANIZER;CN="VaKuuM e.V.":MAILTO:kontakt@vakuum-ev.de
END:VEVENT
BEGIN:VEVENT
DTSTART;TZID=Europe/Berlin:20260430T200000
DTEND;TZID=Europe/Berlin:20260430T233000
DTSTAMP:20260422T203254
CREATED:20260106T163549Z
LAST-MODIFIED:20260106T163549Z
UID:1072-1777579200-1777591800@vakuum-ev.de
SUMMARY:EMERSOUND
DESCRIPTION:
URL:https://vakuum-ev.de/event/emersound/
LOCATION:VaKuuM e.V.\, Am Bahnhof 2\, Bad Bevensen\, Niedersachsen\, 29529\, Germany
ATTACH;FMTTYPE=image/jpeg:https://vakuum-ev.de/wp-content/uploads/2026/01/EMERSOUND-2026.jpg
ORGANIZER;CN="VaKuuM e.V.":MAILTO:kontakt@vakuum-ev.de
END:VEVENT
BEGIN:VEVENT
DTSTART;TZID=Europe/Berlin:20260502T200000
DTEND;TZID=Europe/Berlin:20260502T230000
DTSTAMP:20260422T203254
CREATED:20260220T132131Z
LAST-MODIFIED:20260227T161202Z
UID:1216-1777752000-1777762800@vakuum-ev.de
SUMMARY:TIRISCH
DESCRIPTION:
URL:https://vakuum-ev.de/event/tirisch/
LOCATION:VaKuuM e.V.\, Am Bahnhof 2\, Bad Bevensen\, Niedersachsen\, 29529\, Germany
ATTACH;FMTTYPE=image/jpeg:https://vakuum-ev.de/wp-content/uploads/2026/02/TIRISCH-2026-2.jpg
ORGANIZER;CN="VaKuuM e.V.":MAILTO:kontakt@vakuum-ev.de
END:VEVENT
BEGIN:VEVENT
DTSTART;TZID=Europe/Berlin:20260506T180000
DTEND;TZID=Europe/Berlin:20260506T200000
DTSTAMP:20260422T203254
CREATED:20260222T125528Z
LAST-MODIFIED:20260412T141209Z
UID:1225-1778090400-1778097600@vakuum-ev.de
SUMMARY:COME TOGETHER
DESCRIPTION:
URL:https://vakuum-ev.de/event/come-together-8/
LOCATION:VaKuuM e.V.\, Am Bahnhof 2\, Bad Bevensen\, Niedersachsen\, 29529\, Germany
ATTACH;FMTTYPE=image/jpeg:https://vakuum-ev.de/wp-content/uploads/2026/02/ComeTogether-facebook-2026.jpg
ORGANIZER;CN="VaKuuM e.V.":MAILTO:kontakt@vakuum-ev.de
END:VEVENT
BEGIN:VEVENT
DTSTART;TZID=Europe/Berlin:20260509T200000
DTEND;TZID=Europe/Berlin:20260509T230000
DTSTAMP:20260422T203254
CREATED:20260321T060528Z
LAST-MODIFIED:20260321T062242Z
UID:1327-1778356800-1778367600@vakuum-ev.de
SUMMARY:TANQUORAY
DESCRIPTION:
URL:https://vakuum-ev.de/event/tanquoray/
LOCATION:VaKuuM e.V.\, Am Bahnhof 2\, Bad Bevensen\, Niedersachsen\, 29529\, Germany
ATTACH;FMTTYPE=image/jpeg:https://vakuum-ev.de/wp-content/uploads/2026/03/TANQUORAY-2026.jpg
ORGANIZER;CN="VaKuuM e.V.":MAILTO:kontakt@vakuum-ev.de
END:VEVENT
BEGIN:VEVENT
DTSTART;TZID=Europe/Berlin:20260513T200000
DTEND;TZID=Europe/Berlin:20260513T230000
DTSTAMP:20260422T203254
CREATED:20260329T022015Z
LAST-MODIFIED:20260402T174026Z
UID:1349-1778702400-1778713200@vakuum-ev.de
SUMMARY:MR. TEA & COMPANY
DESCRIPTION:
URL:https://vakuum-ev.de/event/mr-t-company/
LOCATION:VaKuuM e.V.\, Am Bahnhof 2\, Bad Bevensen\, Niedersachsen\, 29529\, Germany
ATTACH;FMTTYPE=image/jpeg:https://vakuum-ev.de/wp-content/uploads/2026/03/Mr.-Tea-Company-2026.jpg
ORGANIZER;CN="VaKuuM e.V.":MAILTO:kontakt@vakuum-ev.de
END:VEVENT
BEGIN:VEVENT
DTSTART;TZID=Europe/Berlin:20260516T200000
DTEND;TZID=Europe/Berlin:20260516T230000
DTSTAMP:20260422T203254
CREATED:20260303T131714Z
LAST-MODIFIED:20260325T142648Z
UID:1285-1778961600-1778972400@vakuum-ev.de
SUMMARY:METAL METAL METAL
DESCRIPTION:
URL:https://vakuum-ev.de/event/metal-metal-metal-6/
LOCATION:VaKuuM e.V.\, Am Bahnhof 2\, Bad Bevensen\, Niedersachsen\, 29529\, Germany
ATTACH;FMTTYPE=image/jpeg:https://vakuum-ev.de/wp-content/uploads/2026/03/METAL-METAL-Mai-2026.jpg
ORGANIZER;CN="VaKuuM e.V.":MAILTO:kontakt@vakuum-ev.de
END:VEVENT
BEGIN:VEVENT
DTSTART;TZID=Europe/Berlin:20260520T183000
DTEND;TZID=Europe/Berlin:20260520T200000
DTSTAMP:20260422T203254
CREATED:20260311T180930Z
LAST-MODIFIED:20260311T181242Z
UID:1301-1779301800-1779307200@vakuum-ev.de
SUMMARY:Percussion – Workshop mit Allan
DESCRIPTION:
URL:https://vakuum-ev.de/event/1301/
LOCATION:VaKuuM e.V.\, Am Bahnhof 2\, Bad Bevensen\, Niedersachsen\, 29529\, Germany
ATTACH;FMTTYPE=image/jpeg:https://vakuum-ev.de/wp-content/uploads/2026/02/Percussion-Workshop-02.jpg
ORGANIZER;CN="VaKuuM e.V.":MAILTO:kontakt@vakuum-ev.de
END:VEVENT
BEGIN:VEVENT
DTSTART;TZID=Europe/Berlin:20260521T200000
DTEND;TZID=Europe/Berlin:20260521T230000
DTSTAMP:20260422T203254
CREATED:20260401T225913Z
LAST-MODIFIED:20260401T225913Z
UID:1368-1779393600-1779404400@vakuum-ev.de
SUMMARY:CHARLY am DONNERSTAG
DESCRIPTION:
URL:https://vakuum-ev.de/event/charly-am-donnerstag-8/
LOCATION:VaKuuM e.V.\, Am Bahnhof 2\, Bad Bevensen\, Niedersachsen\, 29529\, Germany
ATTACH;FMTTYPE=image/jpeg:https://vakuum-ev.de/wp-content/uploads/2026/04/CaD-ohne-Datum.jpg
ORGANIZER;CN="VaKuuM e.V.":MAILTO:kontakt@vakuum-ev.de
END:VEVENT
BEGIN:VEVENT
DTSTART;TZID=Europe/Berlin:20260524T200000
DTEND;TZID=Europe/Berlin:20260524T230000
DTSTAMP:20260422T203254
CREATED:20260331T194658Z
LAST-MODIFIED:20260331T194837Z
UID:1356-1779652800-1779663600@vakuum-ev.de
SUMMARY:BERLIN - BASEL CONNECTION
DESCRIPTION:
URL:https://vakuum-ev.de/event/berlin-basel-connection/
LOCATION:VaKuuM e.V.\, Am Bahnhof 2\, Bad Bevensen\, Niedersachsen\, 29529\, Germany
ATTACH;FMTTYPE=image/jpeg:https://vakuum-ev.de/wp-content/uploads/2026/03/Berlin-Basel-Connection-2026.jpg
ORGANIZER;CN="VaKuuM e.V.":MAILTO:kontakt@vakuum-ev.de
END:VEVENT
BEGIN:VEVENT
DTSTART;TZID=Europe/Berlin:20260527T183000
DTEND;TZID=Europe/Berlin:20260527T200000
DTSTAMP:20260422T203254
CREATED:20260311T181058Z
LAST-MODIFIED:20260311T181337Z
UID:1303-1779906600-1779912000@vakuum-ev.de
SUMMARY:Percussion – Workshop mit Allan
DESCRIPTION:
URL:https://vakuum-ev.de/event/percussion-workshop-mit-allan-13/
LOCATION:VaKuuM e.V.\, Am Bahnhof 2\, Bad Bevensen\, Niedersachsen\, 29529\, Germany
ATTACH;FMTTYPE=image/jpeg:https://vakuum-ev.de/wp-content/uploads/2026/02/Percussion-Workshop-02.jpg
ORGANIZER;CN="VaKuuM e.V.":MAILTO:kontakt@vakuum-ev.de
END:VEVENT
BEGIN:VEVENT
DTSTART;TZID=Europe/Berlin:20260528T200000
DTEND;TZID=Europe/Berlin:20260528T230000
DTSTAMP:20260422T203254
CREATED:20260210T060319Z
LAST-MODIFIED:20260324T075708Z
UID:1174-1779998400-1780009200@vakuum-ev.de
SUMMARY:CARL MAYOTTE QUINTET
DESCRIPTION:
URL:https://vakuum-ev.de/event/carl-mayotte-quintett/
LOCATION:VaKuuM e.V.\, Am Bahnhof 2\, Bad Bevensen\, Niedersachsen\, 29529\, Germany
ATTACH;FMTTYPE=image/jpeg:https://vakuum-ev.de/wp-content/uploads/2026/02/Carl-Mayotte-Quintet-2026-2.jpg
ORGANIZER;CN="VaKuuM e.V.":MAILTO:kontakt@vakuum-ev.de
END:VEVENT
BEGIN:VEVENT
DTSTART;TZID=Europe/Berlin:20260529T200000
DTEND;TZID=Europe/Berlin:20260529T230000
DTSTAMP:20260422T203254
CREATED:20260222T130212Z
LAST-MODIFIED:20260222T130212Z
UID:1229-1780084800-1780095600@vakuum-ev.de
SUMMARY:OPEN STAGE im VaKuuM
DESCRIPTION:
URL:https://vakuum-ev.de/event/open-stage-im-vakuum-6/
LOCATION:VaKuuM e.V.\, Am Bahnhof 2\, Bad Bevensen\, Niedersachsen\, 29529\, Germany
ATTACH;FMTTYPE=image/jpeg:https://vakuum-ev.de/wp-content/uploads/2026/02/Open-Stage-05.2026.jpg
ORGANIZER;CN="VaKuuM e.V.":MAILTO:kontakt@vakuum-ev.de
END:VEVENT
BEGIN:VEVENT
DTSTART;TZID=Europe/Berlin:20260603T180000
DTEND;TZID=Europe/Berlin:20260603T200000
DTSTAMP:20260422T203254
CREATED:20260222T125925Z
LAST-MODIFIED:20260412T141301Z
UID:1227-1780509600-1780516800@vakuum-ev.de
SUMMARY:COME TOGETHER
DESCRIPTION:
URL:https://vakuum-ev.de/event/come-together-9/
LOCATION:VaKuuM e.V.\, Am Bahnhof 2\, Bad Bevensen\, Niedersachsen\, 29529\, Germany
ATTACH;FMTTYPE=image/jpeg:https://vakuum-ev.de/wp-content/uploads/2026/02/ComeTogether-facebook-2026.jpg
ORGANIZER;CN="VaKuuM e.V.":MAILTO:kontakt@vakuum-ev.de
END:VEVENT
BEGIN:VEVENT
DTSTART;TZID=Europe/Berlin:20260606T200000
DTEND;TZID=Europe/Berlin:20260606T230000
DTSTAMP:20260422T203254
CREATED:20260409T083321Z
LAST-MODIFIED:20260409T083343Z
UID:1382-1780776000-1780786800@vakuum-ev.de
SUMMARY:STREETLIFE
DESCRIPTION:
URL:https://vakuum-ev.de/event/streetlife/
LOCATION:VaKuuM e.V.\, Am Bahnhof 2\, Bad Bevensen\, Niedersachsen\, 29529\, Germany
ATTACH;FMTTYPE=image/jpeg:https://vakuum-ev.de/wp-content/uploads/2026/04/Streetlife-2026.jpg
ORGANIZER;CN="VaKuuM e.V.":MAILTO:kontakt@vakuum-ev.de
END:VEVENT
BEGIN:VEVENT
DTSTART;TZID=Europe/Berlin:20260610T183000
DTEND;TZID=Europe/Berlin:20260610T200000
DTSTAMP:20260422T203254
CREATED:20260311T181550Z
LAST-MODIFIED:20260311T181550Z
UID:1308-1781116200-1781121600@vakuum-ev.de
SUMMARY:Percussion – Workshop mit Allan
DESCRIPTION:
URL:https://vakuum-ev.de/event/percussion-workshop-mit-allan-14/
LOCATION:VaKuuM e.V.\, Am Bahnhof 2\, Bad Bevensen\, Niedersachsen\, 29529\, Germany
ATTACH;FMTTYPE=image/jpeg:https://vakuum-ev.de/wp-content/uploads/2026/02/Percussion-Workshop-02.jpg
ORGANIZER;CN="VaKuuM e.V.":MAILTO:kontakt@vakuum-ev.de
END:VEVENT
BEGIN:VEVENT
DTSTART;TZID=Europe/Berlin:20260613T200000
DTEND;TZID=Europe/Berlin:20260613T235900
DTSTAMP:20260422T203254
CREATED:20260402T174237Z
LAST-MODIFIED:20260407T204520Z
UID:1372-1781380800-1781395140@vakuum-ev.de
SUMMARY:Abi Jahrgangsparty
DESCRIPTION:
URL:https://vakuum-ev.de/event/abi-jahrgangsparty/
LOCATION:VaKuuM e.V.\, Am Bahnhof 2\, Bad Bevensen\, Niedersachsen\, 29529\, Germany
ATTACH;FMTTYPE=image/jpeg:https://vakuum-ev.de/wp-content/uploads/2026/04/ABI-PARTY-2026.jpg
ORGANIZER;CN="VaKuuM e.V.":MAILTO:kontakt@vakuum-ev.de
END:VEVENT
BEGIN:VEVENT
DTSTART;TZID=Europe/Berlin:20260617T183000
DTEND;TZID=Europe/Berlin:20260617T200000
DTSTAMP:20260422T203254
CREATED:20260311T181717Z
LAST-MODIFIED:20260311T181717Z
UID:1310-1781721000-1781726400@vakuum-ev.de
SUMMARY:Percussion – Workshop mit Allan
DESCRIPTION:
URL:https://vakuum-ev.de/event/percussion-workshop-mit-allan-15/
LOCATION:VaKuuM e.V.\, Am Bahnhof 2\, Bad Bevensen\, Niedersachsen\, 29529\, Germany
ATTACH;FMTTYPE=image/jpeg:https://vakuum-ev.de/wp-content/uploads/2026/02/Percussion-Workshop-02.jpg
ORGANIZER;CN="VaKuuM e.V.":MAILTO:kontakt@vakuum-ev.de
END:VEVENT
BEGIN:VEVENT
DTSTART;TZID=Europe/Berlin:20260618T200000
DTEND;TZID=Europe/Berlin:20260618T230000
DTSTAMP:20260422T203254
CREATED:20260401T225410Z
LAST-MODIFIED:20260401T225431Z
UID:1363-1781812800-1781823600@vakuum-ev.de
SUMMARY:CHARLY am DONNERSTAG
DESCRIPTION:
URL:https://vakuum-ev.de/event/charly-am-donnerstag-7/
LOCATION:VaKuuM e.V.\, Am Bahnhof 2\, Bad Bevensen\, Niedersachsen\, 29529\, Germany
ATTACH;FMTTYPE=image/jpeg:https://vakuum-ev.de/wp-content/uploads/2026/04/CaD-ohne-Datum.jpg
ORGANIZER;CN="VaKuuM e.V.":MAILTO:kontakt@vakuum-ev.de
END:VEVENT
BEGIN:VEVENT
DTSTART;TZID=Europe/Berlin:20260620T200000
DTEND;TZID=Europe/Berlin:20260620T230000
DTSTAMP:20260422T203254
CREATED:20260409T125307Z
LAST-MODIFIED:20260409T125307Z
UID:1385-1781985600-1781996400@vakuum-ev.de
SUMMARY:FUNK’n’SOUL COMMUNITY
DESCRIPTION:
URL:https://vakuum-ev.de/event/funknsoul-community-2/
LOCATION:VaKuuM e.V.\, Am Bahnhof 2\, Bad Bevensen\, Niedersachsen\, 29529\, Germany
ATTACH;FMTTYPE=image/jpeg:https://vakuum-ev.de/wp-content/uploads/2026/04/Funk-n-Soul-Community-2026.jpg
ORGANIZER;CN="VaKuuM e.V.":MAILTO:kontakt@vakuum-ev.de
END:VEVENT
BEGIN:VEVENT
DTSTART;TZID=Europe/Berlin:20260624T183000
DTEND;TZID=Europe/Berlin:20260624T200000
DTSTAMP:20260422T203254
CREATED:20260311T181827Z
LAST-MODIFIED:20260311T181827Z
UID:1312-1782325800-1782331200@vakuum-ev.de
SUMMARY:Percussion – Workshop mit Allan
DESCRIPTION:
URL:https://vakuum-ev.de/event/percussion-workshop-mit-allan-16/
LOCATION:VaKuuM e.V.\, Am Bahnhof 2\, Bad Bevensen\, Niedersachsen\, 29529\, Germany
ATTACH;FMTTYPE=image/jpeg:https://vakuum-ev.de/wp-content/uploads/2026/02/Percussion-Workshop-02.jpg
ORGANIZER;CN="VaKuuM e.V.":MAILTO:kontakt@vakuum-ev.de
END:VEVENT
BEGIN:VEVENT
DTSTART;TZID=Europe/Berlin:20260626T200000
DTEND;TZID=Europe/Berlin:20260626T230000
DTSTAMP:20260422T203254
CREATED:20260401T224615Z
LAST-MODIFIED:20260401T225509Z
UID:1360-1782504000-1782514800@vakuum-ev.de
SUMMARY:OPEN STAGE im VaKuuM
DESCRIPTION:
URL:https://vakuum-ev.de/event/open-stage-im-vakuum-7/
LOCATION:VaKuuM e.V.\, Am Bahnhof 2\, Bad Bevensen\, Niedersachsen\, 29529\, Germany
ATTACH;FMTTYPE=image/jpeg:https://vakuum-ev.de/wp-content/uploads/2026/04/OpenStage-06-16-9.jpg
ORGANIZER;CN="VaKuuM e.V.":MAILTO:kontakt@vakuum-ev.de
END:VEVENT
BEGIN:VEVENT
DTSTART;TZID=Europe/Berlin:20260701T000000
DTEND;TZID=Europe/Berlin:20260831T000000
DTSTAMP:20260422T203254
CREATED:20260321T072431Z
LAST-MODIFIED:20260321T072431Z
UID:1335-1782864000-1788134400@vakuum-ev.de
SUMMARY:SOMMERPAUSE
DESCRIPTION:
URL:https://vakuum-ev.de/event/sommerpause/
LOCATION:VaKuuM e.V.\, Am Bahnhof 2\, Bad Bevensen\, Niedersachsen\, 29529\, Germany
ATTACH;FMTTYPE=image/jpeg:https://vakuum-ev.de/wp-content/uploads/2026/03/Sommerpause-2026.jpg
ORGANIZER;CN="VaKuuM e.V.":MAILTO:kontakt@vakuum-ev.de
END:VEVENT
BEGIN:VEVENT
DTSTART;TZID=Europe/Berlin:20260902T180000
DTEND;TZID=Europe/Berlin:20260902T200000
DTSTAMP:20260422T203254
CREATED:20260419T064451Z
LAST-MODIFIED:20260419T064602Z
UID:1412-1788372000-1788379200@vakuum-ev.de
SUMMARY:COME TOGETHER
DESCRIPTION:
URL:https://vakuum-ev.de/event/come-together-10/
LOCATION:VaKuuM e.V.\, Am Bahnhof 2\, Bad Bevensen\, Niedersachsen\, 29529\, Germany
ATTACH;FMTTYPE=image/jpeg:https://vakuum-ev.de/wp-content/uploads/2026/02/ComeTogether-facebook-2026.jpg
ORGANIZER;CN="VaKuuM e.V.":MAILTO:kontakt@vakuum-ev.de
END:VEVENT
BEGIN:VEVENT
DTSTART;TZID=Europe/Berlin:20260919T200000
DTEND;TZID=Europe/Berlin:20260919T230000
DTSTAMP:20260422T203254
CREATED:20260414T184813Z
LAST-MODIFIED:20260414T184813Z
UID:1397-1789848000-1789858800@vakuum-ev.de
SUMMARY:BITCH IS BACK
DESCRIPTION:
URL:https://vakuum-ev.de/event/bitch-is-back/
LOCATION:VaKuuM e.V.\, Am Bahnhof 2\, Bad Bevensen\, Niedersachsen\, 29529\, Germany
ATTACH;FMTTYPE=image/jpeg:https://vakuum-ev.de/wp-content/uploads/2026/04/BITCH-IS-BACK-2026.jpg
ORGANIZER;CN="VaKuuM e.V.":MAILTO:kontakt@vakuum-ev.de
END:VEVENT
BEGIN:VEVENT
DTSTART;TZID=Europe/Berlin:20260925T200000
DTEND;TZID=Europe/Berlin:20260925T230000
DTSTAMP:20260422T203254
CREATED:20260415T024445Z
LAST-MODIFIED:20260415T024445Z
UID:1400-1790366400-1790377200@vakuum-ev.de
SUMMARY:MAKATUMBE
DESCRIPTION:
URL:https://vakuum-ev.de/event/makatumbe/
LOCATION:VaKuuM e.V.\, Am Bahnhof 2\, Bad Bevensen\, Niedersachsen\, 29529\, Germany
ATTACH;FMTTYPE=image/jpeg:https://vakuum-ev.de/wp-content/uploads/2026/04/MAKATUMBE-2026.jpg
ORGANIZER;CN="VaKuuM e.V.":MAILTO:kontakt@vakuum-ev.de
END:VEVENT
BEGIN:VEVENT
DTSTART;TZID=Europe/Berlin:20260926T200000
DTEND;TZID=Europe/Berlin:20260926T230000
DTSTAMP:20260422T203254
CREATED:20260416T090218Z
LAST-MODIFIED:20260416T090238Z
UID:1403-1790452800-1790463600@vakuum-ev.de
SUMMARY:SECRET SALT SQUAD
DESCRIPTION:
URL:https://vakuum-ev.de/event/secret-salt-squad/
LOCATION:VaKuuM e.V.\, Am Bahnhof 2\, Bad Bevensen\, Niedersachsen\, 29529\, Germany
ATTACH;FMTTYPE=image/jpeg:https://vakuum-ev.de/wp-content/uploads/2026/04/SECRET-SALT-SQUAD-2026.jpg
ORGANIZER;CN="VaKuuM e.V.":MAILTO:kontakt@vakuum-ev.de
END:VEVENT
END:VCALENDAR