BEGIN:VCALENDAR
VERSION:2.0
PRODID:-//Vakuum e.V. - ECPv6.15.20//NONSGML v1.0//EN
CALSCALE:GREGORIAN
METHOD:PUBLISH
X-WR-CALNAME:Vakuum e.V.
X-ORIGINAL-URL:https://vakuum-ev.de
X-WR-CALDESC:Veranstaltungen für Vakuum e.V.
REFRESH-INTERVAL;VALUE=DURATION:PT1H
X-Robots-Tag:noindex
X-PUBLISHED-TTL:PT1H
BEGIN:VTIMEZONE
TZID:Europe/Berlin
BEGIN:DAYLIGHT
TZOFFSETFROM:+0100
TZOFFSETTO:+0200
TZNAME:CEST
DTSTART:20250330T010000
END:DAYLIGHT
BEGIN:STANDARD
TZOFFSETFROM:+0200
TZOFFSETTO:+0100
TZNAME:CET
DTSTART:20251026T010000
END:STANDARD
BEGIN:DAYLIGHT
TZOFFSETFROM:+0100
TZOFFSETTO:+0200
TZNAME:CEST
DTSTART:20260329T010000
END:DAYLIGHT
BEGIN:STANDARD
TZOFFSETFROM:+0200
TZOFFSETTO:+0100
TZNAME:CET
DTSTART:20261025T010000
END:STANDARD
BEGIN:DAYLIGHT
TZOFFSETFROM:+0100
TZOFFSETTO:+0200
TZNAME:CEST
DTSTART:20270328T010000
END:DAYLIGHT
BEGIN:STANDARD
TZOFFSETFROM:+0200
TZOFFSETTO:+0100
TZNAME:CET
DTSTART:20271031T010000
END:STANDARD
END:VTIMEZONE
BEGIN:VEVENT
DTSTART;TZID=Europe/Berlin:20260422T183000
DTEND;TZID=Europe/Berlin:20260422T200000
DTSTAMP:20260422T220125
CREATED:20260210T094600Z
LAST-MODIFIED:20260210T094600Z
UID:1188-1776882600-1776888000@vakuum-ev.de
SUMMARY:Percussion – Workshop mit Allan
DESCRIPTION:
URL:https://vakuum-ev.de/event/percussion-workshop-mit-allan-10/
LOCATION:VaKuuM e.V.\, Am Bahnhof 2\, Bad Bevensen\, Niedersachsen\, 29529\, Germany
ATTACH;FMTTYPE=image/jpeg:https://vakuum-ev.de/wp-content/uploads/2026/02/Percussion-Workshop-02.jpg
ORGANIZER;CN="VaKuuM e.V.":MAILTO:kontakt@vakuum-ev.de
END:VEVENT
BEGIN:VEVENT
DTSTART;TZID=Europe/Berlin:20260417T200000
DTEND;TZID=Europe/Berlin:20260417T230000
DTSTAMP:20260422T220125
CREATED:20260120T193804Z
LAST-MODIFIED:20260120T193820Z
UID:1138-1776456000-1776466800@vakuum-ev.de
SUMMARY:MANDOWAR - “Hellboys from Cow“
DESCRIPTION:
URL:https://vakuum-ev.de/event/mandowar-hellboys-from-cow/
LOCATION:VaKuuM e.V.\, Am Bahnhof 2\, Bad Bevensen\, Niedersachsen\, 29529\, Germany
ATTACH;FMTTYPE=image/jpeg:https://vakuum-ev.de/wp-content/uploads/2026/01/MANDOWAR-2026.jpg
ORGANIZER;CN="VaKuuM e.V.":MAILTO:kontakt@vakuum-ev.de
END:VEVENT
BEGIN:VEVENT
DTSTART;TZID=Europe/Berlin:20260416T200000
DTEND;TZID=Europe/Berlin:20260416T230000
DTSTAMP:20260422T220125
CREATED:20260120T190236Z
LAST-MODIFIED:20260414T165105Z
UID:1132-1776369600-1776380400@vakuum-ev.de
SUMMARY:CHARLY am DONNERSTAG
DESCRIPTION:
URL:https://vakuum-ev.de/event/charly-am-donnerstag-5/
LOCATION:VaKuuM e.V.\, Am Bahnhof 2\, Bad Bevensen\, Niedersachsen\, 29529\, Germany
ATTACH;FMTTYPE=image/jpeg:https://vakuum-ev.de/wp-content/uploads/2026/01/CAD-04.2026.jpg
ORGANIZER;CN="VaKuuM e.V.":MAILTO:kontakt@vakuum-ev.de
END:VEVENT
BEGIN:VEVENT
DTSTART;TZID=Europe/Berlin:20260415T183000
DTEND;TZID=Europe/Berlin:20260415T200000
DTSTAMP:20260422T220125
CREATED:20260210T094423Z
LAST-MODIFIED:20260210T094423Z
UID:1186-1776277800-1776283200@vakuum-ev.de
SUMMARY:Percussion – Workshop mit Allan
DESCRIPTION:
URL:https://vakuum-ev.de/event/percussion-workshop-mit-allan-9/
LOCATION:VaKuuM e.V.\, Am Bahnhof 2\, Bad Bevensen\, Niedersachsen\, 29529\, Germany
ATTACH;FMTTYPE=image/jpeg:https://vakuum-ev.de/wp-content/uploads/2026/02/Percussion-Workshop-02.jpg
ORGANIZER;CN="VaKuuM e.V.":MAILTO:kontakt@vakuum-ev.de
END:VEVENT
BEGIN:VEVENT
DTSTART;TZID=Europe/Berlin:20260411T200000
DTEND;TZID=Europe/Berlin:20260411T230000
DTSTAMP:20260422T220125
CREATED:20260329T111138Z
LAST-MODIFIED:20260329T111138Z
UID:1352-1775937600-1775948400@vakuum-ev.de
SUMMARY:THE MIGHTY LOVEBOMBS
DESCRIPTION:
URL:https://vakuum-ev.de/event/the-mighty-lovebombs/
LOCATION:VaKuuM e.V.\, Am Bahnhof 2\, Bad Bevensen\, Niedersachsen\, 29529\, Germany
ATTACH;FMTTYPE=image/jpeg:https://vakuum-ev.de/wp-content/uploads/2026/03/THE-MIGHTY-LOVEBOMBS-2026.jpg
ORGANIZER;CN="VaKuuM e.V.":MAILTO:kontakt@vakuum-ev.de
END:VEVENT
BEGIN:VEVENT
DTSTART;TZID=Europe/Berlin:20260410T200000
DTEND;TZID=Europe/Berlin:20260410T230000
DTSTAMP:20260422T220125
CREATED:20260122T150043Z
LAST-MODIFIED:20260403T181450Z
UID:1141-1775851200-1775862000@vakuum-ev.de
SUMMARY:JAZZY FRIDAY
DESCRIPTION:
URL:https://vakuum-ev.de/event/jazzy-friday/
LOCATION:VaKuuM e.V.\, Am Bahnhof 2\, Bad Bevensen\, Niedersachsen\, 29529\, Germany
ATTACH;FMTTYPE=image/jpeg:https://vakuum-ev.de/wp-content/uploads/2026/01/JAZZY-FRIDAY-04.2026-2.jpg
ORGANIZER;CN="VaKuuM e.V.":MAILTO:kontakt@vakuum-ev.de
END:VEVENT
BEGIN:VEVENT
DTSTART;TZID=Europe/Berlin:20260408T183000
DTEND;TZID=Europe/Berlin:20260408T200000
DTSTAMP:20260422T220125
CREATED:20260210T094240Z
LAST-MODIFIED:20260210T094240Z
UID:1184-1775673000-1775678400@vakuum-ev.de
SUMMARY:Percussion – Workshop mit Allan
DESCRIPTION:
URL:https://vakuum-ev.de/event/percussion-workshop-mit-allan-8/
LOCATION:VaKuuM e.V.\, Am Bahnhof 2\, Bad Bevensen\, Niedersachsen\, 29529\, Germany
ATTACH;FMTTYPE=image/jpeg:https://vakuum-ev.de/wp-content/uploads/2026/02/Percussion-Workshop-02.jpg
ORGANIZER;CN="VaKuuM e.V.":MAILTO:kontakt@vakuum-ev.de
END:VEVENT
BEGIN:VEVENT
DTSTART;TZID=Europe/Berlin:20260402T200000
DTEND;TZID=Europe/Berlin:20260402T230000
DTSTAMP:20260422T220125
CREATED:20251208T032322Z
LAST-MODIFIED:20251208T032322Z
UID:1007-1775160000-1775170800@vakuum-ev.de
SUMMARY:moonday6
DESCRIPTION:
URL:https://vakuum-ev.de/event/moonday6/
LOCATION:VaKuuM e.V.\, Am Bahnhof 2\, Bad Bevensen\, Niedersachsen\, 29529\, Germany
ATTACH;FMTTYPE=image/jpeg:https://vakuum-ev.de/wp-content/uploads/2025/12/moonday6-2026.jpg
ORGANIZER;CN="VaKuuM e.V.":MAILTO:kontakt@vakuum-ev.de
END:VEVENT
BEGIN:VEVENT
DTSTART;TZID=Europe/Berlin:20260401T180000
DTEND;TZID=Europe/Berlin:20260401T200000
DTSTAMP:20260422T220125
CREATED:20251204T133337Z
LAST-MODIFIED:20251204T133337Z
UID:1000-1775066400-1775073600@vakuum-ev.de
SUMMARY:COME TOGETHER
DESCRIPTION:
URL:https://vakuum-ev.de/event/come-together-7/
LOCATION:VaKuuM e.V.\, Am Bahnhof 2\, Bad Bevensen\, Niedersachsen\, 29529\, Germany
ATTACH;FMTTYPE=image/jpeg:https://vakuum-ev.de/wp-content/uploads/2025/10/ComeTogether.jpg
ORGANIZER;CN="VaKuuM e.V.":MAILTO:kontakt@vakuum-ev.de
END:VEVENT
BEGIN:VEVENT
DTSTART;TZID=Europe/Berlin:20260328T200000
DTEND;TZID=Europe/Berlin:20260328T230000
DTSTAMP:20260422T220125
CREATED:20260119T211442Z
LAST-MODIFIED:20260125T182545Z
UID:1128-1774728000-1774738800@vakuum-ev.de
SUMMARY:HORST SCHNEIDER QUARTETT
DESCRIPTION:
URL:https://vakuum-ev.de/event/horst-schneider-quartett/
LOCATION:VaKuuM e.V.\, Am Bahnhof 2\, Bad Bevensen\, Niedersachsen\, 29529\, Germany
ATTACH;FMTTYPE=image/jpeg:https://vakuum-ev.de/wp-content/uploads/2026/01/Horst-Schneider-Quartett-2026.jpg
ORGANIZER;CN="VaKuuM e.V.":MAILTO:kontakt@vakuum-ev.de
END:VEVENT
BEGIN:VEVENT
DTSTART;TZID=Europe/Berlin:20260327T200000
DTEND;TZID=Europe/Berlin:20260327T230000
DTSTAMP:20260422T220125
CREATED:20260115T030414Z
LAST-MODIFIED:20260319T063146Z
UID:1108-1774641600-1774652400@vakuum-ev.de
SUMMARY:OPEN STAGE im VaKuuM
DESCRIPTION:
URL:https://vakuum-ev.de/event/open-stage-im-vakuum-5/
LOCATION:VaKuuM e.V.\, Am Bahnhof 2\, Bad Bevensen\, Niedersachsen\, 29529\, Germany
ATTACH;FMTTYPE=image/jpeg:https://vakuum-ev.de/wp-content/uploads/2026/01/Open-Stage-03.2026-1.jpg
ORGANIZER;CN="VaKuuM e.V.":MAILTO:kontakt@vakuum-ev.de
END:VEVENT
BEGIN:VEVENT
DTSTART;TZID=Europe/Berlin:20260326T200000
DTEND;TZID=Europe/Berlin:20260326T230000
DTSTAMP:20260422T220125
CREATED:20260120T190523Z
LAST-MODIFIED:20260309T191056Z
UID:1135-1774555200-1774566000@vakuum-ev.de
SUMMARY:CHARLY am DONNERSTAG...
DESCRIPTION:
URL:https://vakuum-ev.de/event/charly-am-donnerstag-6/
LOCATION:VaKuuM e.V.\, Am Bahnhof 2\, Bad Bevensen\, Niedersachsen\, 29529\, Germany
ATTACH;FMTTYPE=image/jpeg:https://vakuum-ev.de/wp-content/uploads/2026/01/CAD-03-1.jpg
ORGANIZER;CN="VaKuuM e.V.":MAILTO:kontakt@vakuum-ev.de
END:VEVENT
BEGIN:VEVENT
DTSTART;TZID=Europe/Berlin:20260325T183000
DTEND;TZID=Europe/Berlin:20260325T200000
DTSTAMP:20260422T220125
CREATED:20260210T094045Z
LAST-MODIFIED:20260210T094045Z
UID:1182-1774463400-1774468800@vakuum-ev.de
SUMMARY:Percussion – Workshop mit Allan
DESCRIPTION:
URL:https://vakuum-ev.de/event/percussion-workshop-mit-allan-7/
LOCATION:VaKuuM e.V.\, Am Bahnhof 2\, Bad Bevensen\, Niedersachsen\, 29529\, Germany
ATTACH;FMTTYPE=image/jpeg:https://vakuum-ev.de/wp-content/uploads/2026/02/Percussion-Workshop-02.jpg
ORGANIZER;CN="VaKuuM e.V.":MAILTO:kontakt@vakuum-ev.de
END:VEVENT
BEGIN:VEVENT
DTSTART;TZID=Europe/Berlin:20260322T200000
DTEND;TZID=Europe/Berlin:20260322T230000
DTSTAMP:20260422T220125
CREATED:20251021T154636Z
LAST-MODIFIED:20260316T155028Z
UID:854-1774209600-1774220400@vakuum-ev.de
SUMMARY:YUVAL RON TRIO - ! ! ! ABGESAGT ! ! !
DESCRIPTION:
URL:https://vakuum-ev.de/event/yuval-ron-trio/
LOCATION:Niedersachsen
ATTACH;FMTTYPE=image/jpeg:https://vakuum-ev.de/wp-content/uploads/2025/10/YUVAL-RON-TRIO-2025-ABSAGE.jpg
END:VEVENT
BEGIN:VEVENT
DTSTART;TZID=Europe/Berlin:20260320T200000
DTEND;TZID=Europe/Berlin:20260320T230000
DTSTAMP:20260422T220125
CREATED:20251006T123546Z
LAST-MODIFIED:20251006T124527Z
UID:678-1774036800-1774047600@vakuum-ev.de
SUMMARY:DEMON’S EYE
DESCRIPTION:
URL:https://vakuum-ev.de/event/demons-eye/
LOCATION:Niedersachsen
ATTACH;FMTTYPE=image/jpeg:https://vakuum-ev.de/wp-content/uploads/2025/10/Demons-Eye-2026-Kopie.jpg
END:VEVENT
BEGIN:VEVENT
DTSTART;TZID=Europe/Berlin:20260319T200000
DTEND;TZID=Europe/Berlin:20260319T230000
DTSTAMP:20260422T220125
CREATED:20251124T162355Z
LAST-MODIFIED:20260131T110219Z
UID:948-1773950400-1773961200@vakuum-ev.de
SUMMARY:SANDIA
DESCRIPTION:
URL:https://vakuum-ev.de/event/sandia/
LOCATION:VaKuuM e.V.\, Am Bahnhof 2\, Bad Bevensen\, Niedersachsen\, 29529\, Germany
ATTACH;FMTTYPE=image/jpeg:https://vakuum-ev.de/wp-content/uploads/2025/11/SANDIA-2026.jpg
ORGANIZER;CN="VaKuuM e.V.":MAILTO:kontakt@vakuum-ev.de
END:VEVENT
BEGIN:VEVENT
DTSTART;TZID=Europe/Berlin:20260318T183000
DTEND;TZID=Europe/Berlin:20260318T200000
DTSTAMP:20260422T220125
CREATED:20260210T093902Z
LAST-MODIFIED:20260210T093902Z
UID:1180-1773858600-1773864000@vakuum-ev.de
SUMMARY:Percussion – Workshop mit Allan
DESCRIPTION:
URL:https://vakuum-ev.de/event/percussion-workshop-mit-allan-6/
LOCATION:VaKuuM e.V.\, Am Bahnhof 2\, Bad Bevensen\, Niedersachsen\, 29529\, Germany
ATTACH;FMTTYPE=image/jpeg:https://vakuum-ev.de/wp-content/uploads/2026/02/Percussion-Workshop-02.jpg
ORGANIZER;CN="VaKuuM e.V.":MAILTO:kontakt@vakuum-ev.de
END:VEVENT
BEGIN:VEVENT
DTSTART;TZID=Europe/Berlin:20260317T183000
DTEND;TZID=Europe/Berlin:20260317T220000
DTSTAMP:20260422T220125
CREATED:20260115T025655Z
LAST-MODIFIED:20260317T172658Z
UID:1102-1773772200-1773784800@vakuum-ev.de
SUMMARY:Gitarrenworkshop mit Monika
DESCRIPTION:
URL:https://vakuum-ev.de/event/gitarrenworkshop-mit-monika-22/
LOCATION:VaKuuM e.V.\, Am Bahnhof 2\, Bad Bevensen\, Niedersachsen\, 29529\, Germany
ATTACH;FMTTYPE=image/jpeg:https://vakuum-ev.de/wp-content/uploads/2026/01/GitarrenWorkshop-ABGESAGT.jpg
ORGANIZER;CN="VaKuuM e.V.":MAILTO:kontakt@vakuum-ev.de
END:VEVENT
BEGIN:VEVENT
DTSTART;TZID=Europe/Berlin:20260315T110000
DTEND;TZID=Europe/Berlin:20260315T160000
DTSTAMP:20260422T220125
CREATED:20260125T173427Z
LAST-MODIFIED:20260313T113622Z
UID:1149-1773572400-1773590400@vakuum-ev.de
SUMMARY:KREATIVMARKT - ! ! ! ABGESAGT ! ! !
DESCRIPTION:
URL:https://vakuum-ev.de/event/kreativmarkt/
LOCATION:VaKuuM e.V.\, Am Bahnhof 2\, Bad Bevensen\, Niedersachsen\, 29529\, Germany
ATTACH;FMTTYPE=image/jpeg:https://vakuum-ev.de/wp-content/uploads/2026/01/KreativMarkt-2026-ABGESAGT.jpg
ORGANIZER;CN="VaKuuM e.V.":MAILTO:kontakt@vakuum-ev.de
END:VEVENT
BEGIN:VEVENT
DTSTART;TZID=Europe/Berlin:20260314T200000
DTEND;TZID=Europe/Berlin:20260314T230000
DTSTAMP:20260422T220125
CREATED:20260109T101622Z
LAST-MODIFIED:20260220T185424Z
UID:1076-1773518400-1773529200@vakuum-ev.de
SUMMARY:METAL METAL METAL
DESCRIPTION:
URL:https://vakuum-ev.de/event/metal-metal-metal-4/
LOCATION:VaKuuM e.V.\, Am Bahnhof 2\, Bad Bevensen\, Niedersachsen\, 29529\, Germany
ATTACH;FMTTYPE=image/jpeg:https://vakuum-ev.de/wp-content/uploads/2026/01/METAL-METAL-Maerz-2026.jpg
ORGANIZER;CN="VaKuuM e.V.":MAILTO:kontakt@vakuum-ev.de
END:VEVENT
BEGIN:VEVENT
DTSTART;TZID=Europe/Berlin:20260313T200000
DTEND;TZID=Europe/Berlin:20260313T230000
DTSTAMP:20260422T220125
CREATED:20260125T144218Z
LAST-MODIFIED:20260205T165018Z
UID:1146-1773432000-1773442800@vakuum-ev.de
SUMMARY:THE WORLD IS YOURS
DESCRIPTION:
URL:https://vakuum-ev.de/event/happy-night-mit-dj-spider-2/
LOCATION:VaKuuM e.V.\, Am Bahnhof 2\, Bad Bevensen\, Niedersachsen\, 29529\, Germany
ATTACH;FMTTYPE=image/jpeg:https://vakuum-ev.de/wp-content/uploads/2026/01/Matthias-legt-auf-2026-2.jpg
ORGANIZER;CN="VaKuuM e.V.":MAILTO:kontakt@vakuum-ev.de
END:VEVENT
BEGIN:VEVENT
DTSTART;TZID=Europe/Berlin:20260311T183000
DTEND;TZID=Europe/Berlin:20260311T200000
DTSTAMP:20260422T220125
CREATED:20260210T093659Z
LAST-MODIFIED:20260210T093659Z
UID:1177-1773253800-1773259200@vakuum-ev.de
SUMMARY:Percussion – Workshop mit Allan
DESCRIPTION:
URL:https://vakuum-ev.de/event/percussion-workshop-mit-allan-5/
LOCATION:VaKuuM e.V.\, Am Bahnhof 2\, Bad Bevensen\, Niedersachsen\, 29529\, Germany
ATTACH;FMTTYPE=image/jpeg:https://vakuum-ev.de/wp-content/uploads/2026/02/Percussion-Workshop-02.jpg
ORGANIZER;CN="VaKuuM e.V.":MAILTO:kontakt@vakuum-ev.de
END:VEVENT
BEGIN:VEVENT
DTSTART;TZID=Europe/Berlin:20260310T183000
DTEND;TZID=Europe/Berlin:20260310T220000
DTSTAMP:20260422T220125
CREATED:20260115T025434Z
LAST-MODIFIED:20260116T085552Z
UID:1099-1773167400-1773180000@vakuum-ev.de
SUMMARY:Gitarrenworkshop mit Monika
DESCRIPTION:
URL:https://vakuum-ev.de/event/gitarrenworkshop-mit-monika-21/
LOCATION:VaKuuM e.V.\, Am Bahnhof 2\, Bad Bevensen\, Niedersachsen\, 29529\, Germany
ATTACH;FMTTYPE=image/jpeg:https://vakuum-ev.de/wp-content/uploads/2026/01/GitarrenWorkshop-DIENSTAGS.jpg
ORGANIZER;CN="VaKuuM e.V.":MAILTO:kontakt@vakuum-ev.de
END:VEVENT
BEGIN:VEVENT
DTSTART;TZID=Europe/Berlin:20260307T200000
DTEND;TZID=Europe/Berlin:20260307T230000
DTSTAMP:20260422T220125
CREATED:20251016T131626Z
LAST-MODIFIED:20251016T131647Z
UID:821-1772913600-1772924400@vakuum-ev.de
SUMMARY:MagicBuzz
DESCRIPTION:
URL:https://vakuum-ev.de/event/magicbuzz/
LOCATION:Niedersachsen
ATTACH;FMTTYPE=image/jpeg:https://vakuum-ev.de/wp-content/uploads/2025/10/MagicBuzz-2026.jpg
END:VEVENT
BEGIN:VEVENT
DTSTART;TZID=Europe/Berlin:20260304T180000
DTEND;TZID=Europe/Berlin:20260304T200000
DTSTAMP:20260422T220125
CREATED:20251204T133132Z
LAST-MODIFIED:20251204T133132Z
UID:998-1772647200-1772654400@vakuum-ev.de
SUMMARY:COME TOGETHER
DESCRIPTION:
URL:https://vakuum-ev.de/event/come-together-6/
LOCATION:VaKuuM e.V.\, Am Bahnhof 2\, Bad Bevensen\, Niedersachsen\, 29529\, Germany
ATTACH;FMTTYPE=image/jpeg:https://vakuum-ev.de/wp-content/uploads/2025/10/ComeTogether.jpg
ORGANIZER;CN="VaKuuM e.V.":MAILTO:kontakt@vakuum-ev.de
END:VEVENT
BEGIN:VEVENT
DTSTART;TZID=Europe/Berlin:20260303T183000
DTEND;TZID=Europe/Berlin:20260303T220000
DTSTAMP:20260422T220125
CREATED:20260115T024948Z
LAST-MODIFIED:20260116T085624Z
UID:1095-1772562600-1772575200@vakuum-ev.de
SUMMARY:Gitarrenworkshop mit Monika
DESCRIPTION:
URL:https://vakuum-ev.de/event/gitarrenworkshop-mit-monika-20/
LOCATION:VaKuuM e.V.\, Am Bahnhof 2\, Bad Bevensen\, Niedersachsen\, 29529\, Germany
ATTACH;FMTTYPE=image/jpeg:https://vakuum-ev.de/wp-content/uploads/2026/01/GitarrenWorkshop-DIENSTAGS.jpg
ORGANIZER;CN="VaKuuM e.V.":MAILTO:kontakt@vakuum-ev.de
END:VEVENT
BEGIN:VEVENT
DTSTART;TZID=Europe/Berlin:20260228T200000
DTEND;TZID=Europe/Berlin:20260228T230000
DTSTAMP:20260422T220125
CREATED:20260109T172103Z
LAST-MODIFIED:20260226T094126Z
UID:1082-1772308800-1772319600@vakuum-ev.de
SUMMARY:BANGERS ! Support: Prisoner‘s Dream
DESCRIPTION:
URL:https://vakuum-ev.de/event/bangers-support-prisoners-dream-2/
LOCATION:VaKuuM e.V.\, Am Bahnhof 2\, Bad Bevensen\, Niedersachsen\, 29529\, Germany
ATTACH;FMTTYPE=image/jpeg:https://vakuum-ev.de/wp-content/uploads/2026/01/BANGERS-2026-2.jpg
ORGANIZER;CN="VaKuuM e.V.":MAILTO:kontakt@vakuum-ev.de
END:VEVENT
BEGIN:VEVENT
DTSTART;TZID=Europe/Berlin:20260227T200000
DTEND;TZID=Europe/Berlin:20260227T230000
DTSTAMP:20260422T220125
CREATED:20251201T185236Z
LAST-MODIFIED:20260221T211519Z
UID:972-1772222400-1772233200@vakuum-ev.de
SUMMARY:OPEN STAGE im VaKuuM
DESCRIPTION:
URL:https://vakuum-ev.de/event/open-stage-im-vakuum-4/
LOCATION:VaKuuM e.V.\, Am Bahnhof 2\, Bad Bevensen\, Niedersachsen\, 29529\, Germany
ATTACH;FMTTYPE=image/jpeg:https://vakuum-ev.de/wp-content/uploads/2025/12/OPEN-STAGE-02.2026-1.jpg
ORGANIZER;CN="VaKuuM e.V.":MAILTO:kontakt@vakuum-ev.de
END:VEVENT
BEGIN:VEVENT
DTSTART;TZID=Europe/Berlin:20260225T183000
DTEND;TZID=Europe/Berlin:20260225T200000
DTSTAMP:20260422T220125
CREATED:20251208T194947Z
LAST-MODIFIED:20260126T145359Z
UID:1022-1772044200-1772049600@vakuum-ev.de
SUMMARY:Percussion – Workshop mit Allan
DESCRIPTION:
URL:https://vakuum-ev.de/event/percussion-workshop-mit-allan-4/
LOCATION:VaKuuM e.V.\, Am Bahnhof 2\, Bad Bevensen\, Niedersachsen\, 29529\, Germany
ATTACH;FMTTYPE=image/jpeg:https://vakuum-ev.de/wp-content/uploads/2025/12/Percussion-Workshop-Februar-3.jpg
ORGANIZER;CN="VaKuuM e.V.":MAILTO:kontakt@vakuum-ev.de
END:VEVENT
BEGIN:VEVENT
DTSTART;TZID=Europe/Berlin:20260224T183000
DTEND;TZID=Europe/Berlin:20260224T220000
DTSTAMP:20260422T220125
CREATED:20251218T050711Z
LAST-MODIFIED:20260116T085657Z
UID:1056-1771957800-1771970400@vakuum-ev.de
SUMMARY:Gitarrenworkshop mit Monika
DESCRIPTION:
URL:https://vakuum-ev.de/event/gitarrenworkshop-mit-monika-19/
LOCATION:VaKuuM e.V.\, Am Bahnhof 2\, Bad Bevensen\, Niedersachsen\, 29529\, Germany
ATTACH;FMTTYPE=image/jpeg:https://vakuum-ev.de/wp-content/uploads/2026/01/GitarrenWorkshop-DIENSTAGS.jpg
ORGANIZER;CN="VaKuuM e.V.":MAILTO:kontakt@vakuum-ev.de
END:VEVENT
END:VCALENDAR