BEGIN:VCALENDAR
VERSION:2.0
PRODID:-//Vakuum e.V. - ECPv6.15.20//NONSGML v1.0//EN
CALSCALE:GREGORIAN
METHOD:PUBLISH
X-WR-CALNAME:Vakuum e.V.
X-ORIGINAL-URL:https://vakuum-ev.de
X-WR-CALDESC:Veranstaltungen für Vakuum e.V.
REFRESH-INTERVAL;VALUE=DURATION:PT1H
X-Robots-Tag:noindex
X-PUBLISHED-TTL:PT1H
BEGIN:VTIMEZONE
TZID:Europe/Berlin
BEGIN:DAYLIGHT
TZOFFSETFROM:+0100
TZOFFSETTO:+0200
TZNAME:CEST
DTSTART:20250330T010000
END:DAYLIGHT
BEGIN:STANDARD
TZOFFSETFROM:+0200
TZOFFSETTO:+0100
TZNAME:CET
DTSTART:20251026T010000
END:STANDARD
BEGIN:DAYLIGHT
TZOFFSETFROM:+0100
TZOFFSETTO:+0200
TZNAME:CEST
DTSTART:20260329T010000
END:DAYLIGHT
BEGIN:STANDARD
TZOFFSETFROM:+0200
TZOFFSETTO:+0100
TZNAME:CET
DTSTART:20261025T010000
END:STANDARD
BEGIN:DAYLIGHT
TZOFFSETFROM:+0100
TZOFFSETTO:+0200
TZNAME:CEST
DTSTART:20270328T010000
END:DAYLIGHT
BEGIN:STANDARD
TZOFFSETFROM:+0200
TZOFFSETTO:+0100
TZNAME:CET
DTSTART:20271031T010000
END:STANDARD
END:VTIMEZONE
BEGIN:VEVENT
DTSTART;TZID=Europe/Berlin:20260131T200000
DTEND;TZID=Europe/Berlin:20260131T230000
DTSTAMP:20260422T203001
CREATED:20251108T102314Z
LAST-MODIFIED:20260128T142104Z
UID:905-1769889600-1769900400@vakuum-ev.de
SUMMARY:MEISELGEIER - ! ! ! AUSVERKAUFT ! ! !
DESCRIPTION:
URL:https://vakuum-ev.de/event/meiselgeier/
ATTACH;FMTTYPE=image/jpeg:https://vakuum-ev.de/wp-content/uploads/2025/11/Meiselgeier-2026-SOLD-OUT.jpg
END:VEVENT
END:VCALENDAR